BEGIN:VCALENDAR
VERSION:2.0
PRODID:-//Ann Arbor Polonia Association - ECPv6.15.20//NONSGML v1.0//EN
CALSCALE:GREGORIAN
METHOD:PUBLISH
X-ORIGINAL-URL:https://www.annarborpolonia.org
X-WR-CALDESC:Events for Ann Arbor Polonia Association
REFRESH-INTERVAL;VALUE=DURATION:PT1H
X-Robots-Tag:noindex
X-PUBLISHED-TTL:PT1H
BEGIN:VTIMEZONE
TZID:America/Detroit
BEGIN:DAYLIGHT
TZOFFSETFROM:-0500
TZOFFSETTO:-0400
TZNAME:EDT
DTSTART:20220313T070000
END:DAYLIGHT
BEGIN:STANDARD
TZOFFSETFROM:-0400
TZOFFSETTO:-0500
TZNAME:EST
DTSTART:20221106T060000
END:STANDARD
BEGIN:DAYLIGHT
TZOFFSETFROM:-0500
TZOFFSETTO:-0400
TZNAME:EDT
DTSTART:20230312T070000
END:DAYLIGHT
BEGIN:STANDARD
TZOFFSETFROM:-0400
TZOFFSETTO:-0500
TZNAME:EST
DTSTART:20231105T060000
END:STANDARD
BEGIN:DAYLIGHT
TZOFFSETFROM:-0500
TZOFFSETTO:-0400
TZNAME:EDT
DTSTART:20240310T070000
END:DAYLIGHT
BEGIN:STANDARD
TZOFFSETFROM:-0400
TZOFFSETTO:-0500
TZNAME:EST
DTSTART:20241103T060000
END:STANDARD
END:VTIMEZONE
BEGIN:VEVENT
DTSTART;VALUE=DATE:20231117
DTEND;VALUE=DATE:20231119
DTSTAMP:20260421T104111
CREATED:20231023T194548Z
LAST-MODIFIED:20231023T194548Z
UID:1103-1700179200-1700351999@www.annarborpolonia.org
SUMMARY:DYŻUR KONSULARNY w listopadzie
DESCRIPTION:Konsulat Generalny RP w Chicago organizuje DYŻUR KONSULARNY w Hamtramck w dniach 17–18 listopada w Piast Institute: 11633 Joseph Campau Street\, Hamtramck\, MI 48212. \n\nNa dyżur obowiązują wcześniejsze zapisy telefoniczne. Zapisy będą prowadzone w dniach: 7 i 8 listopada lub do wyczerpania miejsc. W celu dokonania zapisu na dyżur\, prosimy dzwonić do naszego Urzędu w wyżej wymienione dni pod numer telefon: (312) 337-8166\, wew. 1 w  godz. 11.00-14.00 (czasu Detroit). \nPodczas dyżuru będzie możliwość złożenia wniosku o wydanie dokumentu paszportowego. \n\nPrzed wykonaniem telefonu w sprawie rezerwacji terminu wizyty paszportowej należy: \n\nprzygotować dane osobowe (imię nazwisko\, numer PESEL lub w przypadku braku numeru PESEL data i miejsce urodzenia)\,\nprzygotować dane kontaktowe – numer telefonu\,\nprzygotować dane dotychczas posiadanego polskiego paszportu lub dowodu osobistego;\nupewnić się\, że:\n\n\nw przypadku zawarcia związku małżeńskiego w USA\, dokonano transkrypcji (rejestracji) amerykańskiego aktu małżeństwa w Polsce. Dopiero po uzyskaniu odpisu polskiego aktu małżeństwa z informacją o nazwisku noszonym po zawarciu małżeństwa można wystąpić o wydanie paszportu na to nazwisko.\nw przypadku urodzenia dziecka w USA\, dokonano transkrypcji (rejestracji) amerykańskiego aktu urodzenia w Polsce. Dopiero po uzyskaniu odpisu polskiego aktu urodzenia można wystąpić o paszport dla danej osoby.\n\n\nUWAGA: W przypadku osób dorosłych\, które nigdy nie posiadały polskiego paszportu\, bądź posiadają nieważny od kilku/kilkunastu/kilkudziesięciu lat polski paszport (bez numeru PESEL) i nie posiadają ważnego polskiego dowodu osobistego\, należy zweryfikować czy konieczne jest przeprowadzanie procedury potwierdzenia posiadania obywatelstwa polskiego. W tym celu należy wysłać e mail na adres Wydziału Ruchu Osobowego: chicago.passport-visa@msz.gov.pl z podaniem danych osobowych i paszportowych wymienionych poniżej. \n\nInformacje na temat wymaganych dokumentów do złożenia wniosku o paszport znajdą Państwo na stronie internetowej Konsulatu Generalnego RP w Chicago: https://www.gov.pl/…/sprawy-paszportowe-informacje-ogolne
URL:https://www.annarborpolonia.org/event/dyzur-konsularny-w-listopadzie/
ATTACH;FMTTYPE=image/png:https://www.annarborpolonia.org/wp-content/uploads/2023/10/Konsulat-w-Chicago.png
END:VEVENT
END:VCALENDAR