BEGIN:VCALENDAR
VERSION:2.0
PRODID:-//Ann Arbor Polonia Association - ECPv6.15.20//NONSGML v1.0//EN
CALSCALE:GREGORIAN
METHOD:PUBLISH
X-WR-CALNAME:Ann Arbor Polonia Association
X-ORIGINAL-URL:https://www.annarborpolonia.org
X-WR-CALDESC:Events for Ann Arbor Polonia Association
REFRESH-INTERVAL;VALUE=DURATION:PT1H
X-Robots-Tag:noindex
X-PUBLISHED-TTL:PT1H
BEGIN:VTIMEZONE
TZID:America/Detroit
BEGIN:DAYLIGHT
TZOFFSETFROM:-0500
TZOFFSETTO:-0400
TZNAME:EDT
DTSTART:20220313T070000
END:DAYLIGHT
BEGIN:STANDARD
TZOFFSETFROM:-0400
TZOFFSETTO:-0500
TZNAME:EST
DTSTART:20221106T060000
END:STANDARD
BEGIN:DAYLIGHT
TZOFFSETFROM:-0500
TZOFFSETTO:-0400
TZNAME:EDT
DTSTART:20230312T070000
END:DAYLIGHT
BEGIN:STANDARD
TZOFFSETFROM:-0400
TZOFFSETTO:-0500
TZNAME:EST
DTSTART:20231105T060000
END:STANDARD
BEGIN:DAYLIGHT
TZOFFSETFROM:-0500
TZOFFSETTO:-0400
TZNAME:EDT
DTSTART:20240310T070000
END:DAYLIGHT
BEGIN:STANDARD
TZOFFSETFROM:-0400
TZOFFSETTO:-0500
TZNAME:EST
DTSTART:20241103T060000
END:STANDARD
END:VTIMEZONE
BEGIN:VEVENT
DTSTART;TZID=America/Detroit:20230506T160000
DTEND;TZID=America/Detroit:20230506T220000
DTSTAMP:20260421T185352
CREATED:20230403T201930Z
LAST-MODIFIED:20230425T014230Z
UID:949-1683388800-1683410400@www.annarborpolonia.org
SUMMARY:Walne Zebranie i Ognisko
DESCRIPTION:WALNE ZEBRANIE CZŁONKÓW ANN ARBOR POLONIA ASSOCIATION PRZY OGNISKU \n\nData: 6 maja o godzinie 16:00\nAdres: 1733 West Huron River Drive\, Ann Arbor\, MI 48103 (Dom Marcina Szczepańskiego) Google map\nZapraszamy serdecznie wszystkich członków\, zainteresowanych i przyjaciół do wzięcia udziału\nPodczas zebrania nastąpi głosowanie na nowy zarząd AAPA – osoby\, które opłaciły składkę ($35) będą mogły oddać swój głos\nOpłatę można uiścić czekiem na adres: Ann Arbor Polonia Association\, PO Box 130 423\, Ann Arbor\, MI 48113 lub przez Paypal here\nNa zebraniu będzie też możliwość uiszczenia corocznej składki. Każdy może być członkiem AAPA – zapraszamy! Więcej informacji znajduje sie  here\nNa Ognisku zapewniamy kiełbaski i napoje bezalkoholowe\, jednak Ognisko jest imprezą typu POTLUCK – prosimy o przyniesienie potraw i napojów do podziału\nDzieci serdecznie widziane!\nProsimy o zostawienie psów w domu\nProsimy o zabranie składanych krzesełek turystycznych\nParking dostępny przy posesji lub u sąsiada obok przy 1717 West Huron Drive.\n\nZapraszamy na Walne Zebranie Członków Ann Arbor Polonia Association przy OGNISKU – 6 maja 2023 o godzinie 16. \nGłównym celem naszej organizacji jest wspieranie polskiej społeczności w Ann Arbor i okolicach. Nie mogliśmy nie zauważyć jaką popularnością cieszyło się jesienne ognisko. Chcąc propagować naszą organizację zmieniamy formułę i zapraszamy wszystkich członków oraz chętnych do zostania częścią naszej społeczności na Walne Zebranie i na OGNISKO. \nZaczniemy od części formalnej – sprawozdania z działalności organizacji oraz głosowania członków AAPA na nowy zarząd. Następnie wszystkich zapraszamy na dalsze rozmowy przy ogniu\, kiełbaskach i śpiew z gitarami. \nJuż teraz prosimy o zarezerwowanie terminu w kalendarzu i zaproszenie znajomych z polskimi korzeniami. Szczegółową agendę doślemy bliżej wydarzenia.\nJeśli chcesz wesprzeć zarząd swoją energią i pomysłami to ZAPRASZAMY – napisz do nas e-mail: poloniaannarbor@gmail.com lub skontaktuj się z którymkolwiek członkiem zarządu\, (aktualna lista czlonkow:  https://www.annarborpolonia.org/about/). \n——— \nYou are invited to a FIRED UP annual meeting and bonfire of the Ann Arbor Polonia Association! Saturday\, May 6\, 2023 at 4pm.\nThe AAPA aims to support and promote the Polish and Polish American community in Ann Arbor and surrounding area. We are thrilled to see how popular our fall bonfire event has become and we decided to add another bonfire in the spring. We would like to invite all the AAPA members and those who would like to join our organization to a membership meeting AND a bonfire on Saturday\, May 6\, 2023 at 4pm.\nWe will open the meeting with a formal report on the 2022/23 activities of the organization and conduct the vote by the AAPA members on the new board. This will be followed by continued conversations by the bonfire\, grilling of kielbaski (sausages) and singing accompanied by guitars.\nPlease mark your calendar and invite other AAPA members and sympathizers! We will share the meeting agenda ahead of the meeting. If you are interested in supporting the board with your ideas and energy or even joining the board\, you are WELCOME to respond to send us email: poloniaannarbor@gmail.com or reach out to any of the board members. You can find the full board member list:  https://www.annarborpolonia.org/about/.
URL:https://www.annarborpolonia.org/event/walne-zebranie-i-ognisko/
LOCATION:1733 West Huron River Drive\, Ann Arbor\, MI 48103\, 1733 West Huron River Drive\,\, Ann Arbor\, 48103
ATTACH;FMTTYPE=image/jpeg:https://www.annarborpolonia.org/wp-content/uploads/2023/04/ognisko.jpg
END:VEVENT
END:VCALENDAR